BEGIN:VCALENDAR
VERSION:2.0
PRODID:-//eventon.com NONSGML v1.0//EN
CALSCALE:GREGORIAN
METHOD:PUBLISH
BEGIN:VEVENT
UID:69e732a7eba3c
DTSTAMP:20260421T081743Z
DTSTART:20220519T163000Z
DTEND:20220519T180000Z
LOCATION:M+A Architects 775 Yard Street\,  Suite 325
SUMMARY:Central Ohio: May In-Person Roundtable
DESCRIPTION:How to Find &amp; Keep Good People: Organizational leaders disc
 uss how to retain talent in their industry. Flexibility\,  Mentorship\,  Su
 cession Planning\,  Generational Issues Event &#8211; RSVP Requested For in
 quiries contact: CentralAdmin@Cogence.org\nhttps://cogence.org/events/centr
 al-ohio-may-roundtable/
URL:https://cogence.org/events/central-ohio-may-roundtable/
END:VEVENT
END:VCALENDAR